BEGIN:VCALENDAR
VERSION:2.0
PRODID:-//hacksw/handcal//NONSGML v1.0//EN
BEGIN:VEVENT
SUMMARY:Parcours 3D Guiry 2026
UID:c069c15c-326e-471f-a1d2-1db5b93cd51e
DTSTART:20260524T053000Z
DTEND:20260524T120000Z
LOCATION:Localisation   
CATEGORIES:Sportif
STATUS:
URL;VALUE=URI:https://archers-de-carrieres78.sportsregions.fr/evenements/2026/05/24/parcours-3d-guiry-2026-2438605
END:VEVENT
END:VCALENDAR
