BEGIN:VCALENDAR
VERSION:2.0
PRODID:-//hacksw/handcal//NONSGML v1.0//EN
BEGIN:VEVENT
SUMMARY:COMPLET Parcours ASBA Nature 3 departs/4
UID:2197712d-69ea-4842-8e39-3c5f7a59067e
DTSTART:20260501T220000Z
DTEND:20260503T220000Z
LOCATION:Localisation   
CATEGORIES:Sportif
STATUS:
DESCRIPTION:<p>Inscription ouverte</p>
URL;VALUE=URI:https://archers-de-carrieres78.sportsregions.fr/evenements/2026/05/02/complet-parcours-asba-nature-3-departs4-2389056
END:VEVENT
END:VCALENDAR
